Package: BBCAnalyzer Version: 1.30.0 Command: F:\biocbuild\bbs-3.17-bioc\R\bin\R.exe CMD check --no-multiarch --install=check:BBCAnalyzer.install-out.txt --library=F:\biocbuild\bbs-3.17-bioc\R\library --no-vignettes --timings BBCAnalyzer_1.30.0.tar.gz StartedAt: 2023-10-15 23:44:13 -0400 (Sun, 15 Oct 2023) EndedAt: 2023-10-15 23:49:02 -0400 (Sun, 15 Oct 2023) EllapsedTime: 288.9 seconds RetCode: 0 Status: WARNINGS CheckDir: BBCAnalyzer.Rcheck Warnings: 1