Package: BBCAnalyzer Version: 1.30.0 Command: chmod a+r BBCAnalyzer -R && F:\biocbuild\bbs-3.17-bioc\R\bin\R.exe CMD build --keep-empty-dirs --no-resave-data BBCAnalyzer StartedAt: 2023-10-15 17:30:00 -0400 (Sun, 15 Oct 2023) EndedAt: 2023-10-15 17:38:28 -0400 (Sun, 15 Oct 2023) EllapsedTime: 507.6 seconds RetCode: 0 Status: OK PackageFile: BBCAnalyzer_1.30.0.tar.gz PackageFileSize: 2.084 MiB