Package: BBCAnalyzer Version: 1.30.0 Command: rm -rf BBCAnalyzer.buildbin-libdir && mkdir BBCAnalyzer.buildbin-libdir && F:\biocbuild\bbs-3.17-bioc\R\bin\R.exe CMD INSTALL --build --library=BBCAnalyzer.buildbin-libdir BBCAnalyzer_1.30.0.tar.gz StartedAt: 2023-10-16 08:27:17 -0400 (Mon, 16 Oct 2023) EndedAt: 2023-10-16 08:28:10 -0400 (Mon, 16 Oct 2023) EllapsedTime: 53.2 seconds RetCode: 0 Status: OK PackageFile: BBCAnalyzer_1.30.0.zip PackageFileSize: 1.943 MiB