Package: BBCAnalyzer Version: 1.30.0 Command: /home/biocbuild/bbs-3.17-bioc/R/bin/R CMD check --install=check:BBCAnalyzer.install-out.txt --library=/home/biocbuild/bbs-3.17-bioc/R/site-library --timings BBCAnalyzer_1.30.0.tar.gz StartedAt: 2023-10-15 19:25:51 -0400 (Sun, 15 Oct 2023) EndedAt: 2023-10-15 19:42:48 -0400 (Sun, 15 Oct 2023) EllapsedTime: 1016.6 seconds RetCode: 0 Status: OK CheckDir: BBCAnalyzer.Rcheck Warnings: 0