Package: BBCAnalyzer Version: 1.30.0 Command: /home/biocbuild/bbs-3.17-bioc/R/bin/R CMD build --keep-empty-dirs --no-resave-data BBCAnalyzer StartedAt: 2023-10-15 16:00:40 -0400 (Sun, 15 Oct 2023) EndedAt: 2023-10-15 16:07:22 -0400 (Sun, 15 Oct 2023) EllapsedTime: 401.8 seconds RetCode: 0 Status: OK PackageFile: BBCAnalyzer_1.30.0.tar.gz PackageFileSize: 2.08 MiB