Package: BBCAnalyzer Version: 1.30.0 Command: /Library/Frameworks/R.framework/Resources/bin/R CMD INSTALL BBCAnalyzer StartedAt: 2023-10-15 15:37:29 -0400 (Sun, 15 Oct 2023) EndedAt: 2023-10-15 15:39:55 -0400 (Sun, 15 Oct 2023) EllapsedTime: 146.0 seconds RetCode: 0 Status: OK