Package: BBCAnalyzer Version: 1.30.0 Command: /Library/Frameworks/R.framework/Resources/bin/R CMD check --install=check:BBCAnalyzer.install-out.txt --library=/Library/Frameworks/R.framework/Resources/library --no-vignettes --timings BBCAnalyzer_1.30.0.tar.gz StartedAt: 2023-10-15 22:49:56 -0400 (Sun, 15 Oct 2023) EndedAt: 2023-10-15 23:02:17 -0400 (Sun, 15 Oct 2023) EllapsedTime: 741.7 seconds RetCode: 0 Status: OK CheckDir: BBCAnalyzer.Rcheck Warnings: 0