Package: BBCAnalyzer Version: 1.30.0 Command: /Library/Frameworks/R.framework/Resources/bin/R CMD build --keep-empty-dirs --no-resave-data BBCAnalyzer StartedAt: 2023-10-15 16:51:44 -0400 (Sun, 15 Oct 2023) EndedAt: 2023-10-15 17:12:56 -0400 (Sun, 15 Oct 2023) EllapsedTime: 1271.6 seconds RetCode: 0 Status: OK PackageFile: BBCAnalyzer_1.30.0.tar.gz PackageFileSize: 2.203 MiB