Package: BASiCStan Version: 1.2.0 Command: F:\biocbuild\bbs-3.17-bioc\R\bin\R.exe CMD check --no-multiarch --install=check:BASiCStan.install-out.txt --library=F:\biocbuild\bbs-3.17-bioc\R\library --no-vignettes --timings BASiCStan_1.2.0.tar.gz StartedAt: 2023-10-15 23:42:05 -0400 (Sun, 15 Oct 2023) EndedAt: 2023-10-15 23:47:58 -0400 (Sun, 15 Oct 2023) EllapsedTime: 352.4 seconds RetCode: 0 Status: OK CheckDir: BASiCStan.Rcheck Warnings: 0