Package: BASiCStan Version: 1.2.0 Command: /home/biocbuild/bbs-3.17-bioc/R/bin/R CMD check --install=check:BASiCStan.install-out.txt --library=/home/biocbuild/bbs-3.17-bioc/R/site-library --timings BASiCStan_1.2.0.tar.gz StartedAt: 2023-10-15 19:23:06 -0400 (Sun, 15 Oct 2023) EndedAt: 2023-10-15 19:28:37 -0400 (Sun, 15 Oct 2023) EllapsedTime: 330.5 seconds RetCode: 0 Status: OK CheckDir: BASiCStan.Rcheck Warnings: 0