Package: BASiCStan Version: 1.2.0 Command: /home/biocbuild/bbs-3.17-bioc/R/bin/R CMD build --keep-empty-dirs --no-resave-data BASiCStan StartedAt: 2023-10-15 15:59:59 -0400 (Sun, 15 Oct 2023) EndedAt: 2023-10-15 16:04:25 -0400 (Sun, 15 Oct 2023) EllapsedTime: 266.1 seconds RetCode: 0 Status: OK PackageFile: BASiCStan_1.2.0.tar.gz PackageFileSize: 62.45 KiB