Package: BASiCStan Version: 1.2.0 Command: /Library/Frameworks/R.framework/Resources/bin/R CMD build --keep-empty-dirs --no-resave-data BASiCStan StartedAt: 2023-10-15 16:50:29 -0400 (Sun, 15 Oct 2023) EndedAt: 2023-10-15 17:01:06 -0400 (Sun, 15 Oct 2023) EllapsedTime: 636.9 seconds RetCode: 0 Status: OK PackageFile: BASiCStan_1.2.0.tar.gz PackageFileSize: 62.52 KiB