Package: BASiCStan Version: 1.2.0 Command: rm -rf BASiCStan.buildbin-libdir && mkdir BASiCStan.buildbin-libdir && /Users/biocbuild/BBS/utils/build-universal.sh BASiCStan_1.2.0.tar.gz /Library/Frameworks/R.framework/Resources/bin/R BASiCStan.buildbin-libdir StartedAt: 2023-10-16 08:59:58 -0400 (Mon, 16 Oct 2023) EndedAt: 2023-10-16 09:11:24 -0400 (Mon, 16 Oct 2023) EllapsedTime: 686.5 seconds RetCode: 0 Status: OK PackageFile: BASiCStan_1.2.0.tgz PackageFileSize: 1.141 MiB