Package: BANDITS Version: 1.16.1 Command: /Library/Frameworks/R.framework/Resources/bin/R CMD INSTALL BANDITS StartedAt: 2023-10-15 15:22:11 -0400 (Sun, 15 Oct 2023) EndedAt: 2023-10-15 15:25:24 -0400 (Sun, 15 Oct 2023) EllapsedTime: 193.1 seconds RetCode: 0 Status: OK