Package: BANDITS Version: 1.16.1 Command: /Library/Frameworks/R.framework/Resources/bin/R CMD check --install=check:BANDITS.install-out.txt --library=/Library/Frameworks/R.framework/Resources/library --no-vignettes --timings BANDITS_1.16.1.tar.gz StartedAt: 2023-10-15 22:43:31 -0400 (Sun, 15 Oct 2023) EndedAt: 2023-10-15 22:49:57 -0400 (Sun, 15 Oct 2023) EllapsedTime: 386.4 seconds RetCode: 0 Status: OK CheckDir: BANDITS.Rcheck Warnings: 0