Package: BAGS Version: 2.40.0 Command: F:\biocbuild\bbs-3.17-bioc\R\bin\R.exe CMD check --no-multiarch --install=check:BAGS.install-out.txt --library=F:\biocbuild\bbs-3.17-bioc\R\library --no-vignettes --timings BAGS_2.40.0.tar.gz StartedAt: 2023-10-15 23:37:22 -0400 (Sun, 15 Oct 2023) EndedAt: 2023-10-15 23:38:59 -0400 (Sun, 15 Oct 2023) EllapsedTime: 96.4 seconds RetCode: 0 Status: OK CheckDir: BAGS.Rcheck Warnings: 0