Package: BAGS Version: 2.40.0 Command: chmod a+r BAGS -R && F:\biocbuild\bbs-3.17-bioc\R\bin\R.exe CMD build --keep-empty-dirs --no-resave-data BAGS StartedAt: 2023-10-15 17:27:05 -0400 (Sun, 15 Oct 2023) EndedAt: 2023-10-15 17:27:54 -0400 (Sun, 15 Oct 2023) EllapsedTime: 48.8 seconds RetCode: 0 Status: OK PackageFile: BAGS_2.40.0.tar.gz PackageFileSize: 199 KiB