Package: BAGS Version: 2.40.0 Command: /Library/Frameworks/R.framework/Resources/bin/R CMD check --install=check:BAGS.install-out.txt --library=/Library/Frameworks/R.framework/Resources/library --no-vignettes --timings BAGS_2.40.0.tar.gz StartedAt: 2023-10-15 22:41:34 -0400 (Sun, 15 Oct 2023) EndedAt: 2023-10-15 22:45:14 -0400 (Sun, 15 Oct 2023) EllapsedTime: 219.8 seconds RetCode: 0 Status: OK CheckDir: BAGS.Rcheck Warnings: 0