Package: AnnotationHubData Version: 1.30.0 Command: /home/biocbuild/bbs-3.17-bioc/R/bin/R CMD build --keep-empty-dirs --no-resave-data AnnotationHubData StartedAt: 2023-10-15 15:55:23 -0400 (Sun, 15 Oct 2023) EndedAt: 2023-10-15 15:56:04 -0400 (Sun, 15 Oct 2023) EllapsedTime: 41.3 seconds RetCode: 0 Status: OK PackageFile: AnnotationHubData_1.30.0.tar.gz PackageFileSize: 400.3 KiB