Package: AnnotationHub Version: 3.8.0 Command: chmod a+r AnnotationHub -R && F:\biocbuild\bbs-3.17-bioc\R\bin\R.exe CMD build --keep-empty-dirs --no-resave-data AnnotationHub StartedAt: 2023-10-15 17:14:46 -0400 (Sun, 15 Oct 2023) EndedAt: 2023-10-15 17:25:20 -0400 (Sun, 15 Oct 2023) EllapsedTime: 634.0 seconds RetCode: 0 Status: OK PackageFile: AnnotationHub_3.8.0.tar.gz PackageFileSize: 970 KiB