Package: AnnotationHub Version: 3.8.0 Command: /Library/Frameworks/R.framework/Resources/bin/R CMD INSTALL AnnotationHub StartedAt: 2023-10-15 16:28:05 -0400 (Sun, 15 Oct 2023) EndedAt: 2023-10-15 16:29:03 -0400 (Sun, 15 Oct 2023) EllapsedTime: 58.0 seconds RetCode: 0 Status: OK