Package: AnnotationHub Version: 3.8.0 Command: rm -rf AnnotationHub.buildbin-libdir && mkdir AnnotationHub.buildbin-libdir && /Users/biocbuild/BBS/utils/build-universal.sh AnnotationHub_3.8.0.tar.gz /Library/Frameworks/R.framework/Resources/bin/R AnnotationHub.buildbin-libdir StartedAt: 2023-10-16 08:57:40 -0400 (Mon, 16 Oct 2023) EndedAt: 2023-10-16 08:58:50 -0400 (Mon, 16 Oct 2023) EllapsedTime: 70.0 seconds RetCode: 0 Status: OK PackageFile: AnnotationHub_3.8.0.tgz PackageFileSize: 1.246 MiB