Package: AnnotationDbi Version: 1.62.2 Command: F:\biocbuild\bbs-3.17-bioc\R\bin\R.exe CMD check --no-multiarch --install=check:AnnotationDbi.install-out.txt --library=F:\biocbuild\bbs-3.17-bioc\R\library --no-vignettes --timings AnnotationDbi_1.62.2.tar.gz StartedAt: 2023-10-15 23:25:40 -0400 (Sun, 15 Oct 2023) EndedAt: 2023-10-15 23:31:23 -0400 (Sun, 15 Oct 2023) EllapsedTime: 342.9 seconds RetCode: 0 Status: WARNINGS CheckDir: AnnotationDbi.Rcheck Warnings: 1