Package: AnnotationDbi Version: 1.62.2 Command: rm -rf AnnotationDbi.buildbin-libdir && mkdir AnnotationDbi.buildbin-libdir && F:\biocbuild\bbs-3.17-bioc\R\bin\R.exe CMD INSTALL --build --library=AnnotationDbi.buildbin-libdir AnnotationDbi_1.62.2.tar.gz StartedAt: 2023-10-16 08:24:41 -0400 (Mon, 16 Oct 2023) EndedAt: 2023-10-16 08:25:27 -0400 (Mon, 16 Oct 2023) EllapsedTime: 45.9 seconds RetCode: 0 Status: OK PackageFile: AnnotationDbi_1.62.2.zip PackageFileSize: 5.046 MiB