Package: AnnotationDbi Version: 1.62.2 Command: /home/biocbuild/bbs-3.17-bioc/R/bin/R CMD INSTALL AnnotationDbi StartedAt: 2023-10-15 15:15:46 -0400 (Sun, 15 Oct 2023) EndedAt: 2023-10-15 15:16:07 -0400 (Sun, 15 Oct 2023) EllapsedTime: 21.0 seconds RetCode: 0 Status: OK