Package: AnnotationDbi Version: 1.62.2 Command: /home/biocbuild/bbs-3.17-bioc/R/bin/R CMD check --install=check:AnnotationDbi.install-out.txt --library=/home/biocbuild/bbs-3.17-bioc/R/site-library --timings AnnotationDbi_1.62.2.tar.gz StartedAt: 2023-10-15 19:11:25 -0400 (Sun, 15 Oct 2023) EndedAt: 2023-10-15 19:15:32 -0400 (Sun, 15 Oct 2023) EllapsedTime: 247.0 seconds RetCode: 0 Status: WARNINGS CheckDir: AnnotationDbi.Rcheck Warnings: 1