Package: AneuFinder Version: 1.28.0 Command: rm -rf AneuFinder.buildbin-libdir && mkdir AneuFinder.buildbin-libdir && F:\biocbuild\bbs-3.17-bioc\R\bin\R.exe CMD INSTALL --build --library=AneuFinder.buildbin-libdir AneuFinder_1.28.0.tar.gz StartedAt: 2023-10-16 08:24:31 -0400 (Mon, 16 Oct 2023) EndedAt: 2023-10-16 08:25:24 -0400 (Mon, 16 Oct 2023) EllapsedTime: 52.5 seconds RetCode: 0 Status: OK PackageFile: AneuFinder_1.28.0.zip PackageFileSize: 2.526 MiB