Package: AneuFinder Version: 1.28.0 Command: /Library/Frameworks/R.framework/Resources/bin/R CMD INSTALL AneuFinder StartedAt: 2023-10-15 15:25:49 -0400 (Sun, 15 Oct 2023) EndedAt: 2023-10-15 15:28:02 -0400 (Sun, 15 Oct 2023) EllapsedTime: 133.4 seconds RetCode: 0 Status: OK