Package: Anaquin Version: 2.24.0 Command: rm -rf Anaquin.buildbin-libdir && mkdir Anaquin.buildbin-libdir && F:\biocbuild\bbs-3.17-bioc\R\bin\R.exe CMD INSTALL --build --library=Anaquin.buildbin-libdir Anaquin_2.24.0.tar.gz StartedAt: 2023-10-16 08:24:28 -0400 (Mon, 16 Oct 2023) EndedAt: 2023-10-16 08:24:36 -0400 (Mon, 16 Oct 2023) EllapsedTime: 7.6 seconds RetCode: 0 Status: OK PackageFile: Anaquin_2.24.0.zip PackageFileSize: 458.2 KiB