Package: Anaquin Version: 2.24.0 Command: /home/biocbuild/bbs-3.17-bioc/R/bin/R CMD INSTALL Anaquin StartedAt: 2023-10-15 15:18:07 -0400 (Sun, 15 Oct 2023) EndedAt: 2023-10-15 15:18:12 -0400 (Sun, 15 Oct 2023) EllapsedTime: 4.7 seconds RetCode: 0 Status: OK