Package: Anaquin Version: 2.24.0 Command: /home/biocbuild/bbs-3.17-bioc/R/bin/R CMD build --keep-empty-dirs --no-resave-data Anaquin StartedAt: 2023-10-15 15:54:46 -0400 (Sun, 15 Oct 2023) EndedAt: 2023-10-15 15:55:06 -0400 (Sun, 15 Oct 2023) EllapsedTime: 19.1 seconds RetCode: 0 Status: OK PackageFile: Anaquin_2.24.0.tar.gz PackageFileSize: 450.3 KiB