Package: Anaquin Version: 2.24.0 Command: /Library/Frameworks/R.framework/Resources/bin/R CMD check --install=check:Anaquin.install-out.txt --library=/Library/Frameworks/R.framework/Resources/library --no-vignettes --timings Anaquin_2.24.0.tar.gz StartedAt: 2023-10-15 22:28:08 -0400 (Sun, 15 Oct 2023) EndedAt: 2023-10-15 22:30:26 -0400 (Sun, 15 Oct 2023) EllapsedTime: 137.3 seconds RetCode: 0 Status: OK CheckDir: Anaquin.Rcheck Warnings: 0