Package: Anaquin Version: 2.24.0 Command: /Library/Frameworks/R.framework/Resources/bin/R CMD build --keep-empty-dirs --no-resave-data Anaquin StartedAt: 2023-10-15 16:41:24 -0400 (Sun, 15 Oct 2023) EndedAt: 2023-10-15 16:42:20 -0400 (Sun, 15 Oct 2023) EllapsedTime: 55.5 seconds RetCode: 0 Status: OK PackageFile: Anaquin_2.24.0.tar.gz PackageFileSize: 449.7 KiB