Package: AnVILPublish Version: 1.10.0 Command: /home/biocbuild/bbs-3.17-bioc/R/bin/R CMD INSTALL AnVILPublish StartedAt: 2023-10-15 15:41:11 -0400 (Sun, 15 Oct 2023) EndedAt: 2023-10-15 15:41:16 -0400 (Sun, 15 Oct 2023) EllapsedTime: 4.9 seconds RetCode: 0 Status: OK