Package: AnVILBilling Version: 1.10.0 Command: rm -rf AnVILBilling.buildbin-libdir && mkdir AnVILBilling.buildbin-libdir && F:\biocbuild\bbs-3.17-bioc\R\bin\R.exe CMD INSTALL --build --library=AnVILBilling.buildbin-libdir AnVILBilling_1.10.0.tar.gz StartedAt: 2023-10-16 08:25:05 -0400 (Mon, 16 Oct 2023) EndedAt: 2023-10-16 08:25:25 -0400 (Mon, 16 Oct 2023) EllapsedTime: 20.4 seconds RetCode: 0 Status: OK PackageFile: AnVILBilling_1.10.0.zip PackageFileSize: 744.1 KiB