Package: AnVILBilling Version: 1.10.0 Command: /home/biocbuild/bbs-3.17-bioc/R/bin/R CMD INSTALL AnVILBilling StartedAt: 2023-10-15 15:31:18 -0400 (Sun, 15 Oct 2023) EndedAt: 2023-10-15 15:31:26 -0400 (Sun, 15 Oct 2023) EllapsedTime: 8.0 seconds RetCode: 0 Status: OK