Package: AnVILBilling Version: 1.10.0 Command: /Library/Frameworks/R.framework/Resources/bin/R CMD check --install=check:AnVILBilling.install-out.txt --library=/Library/Frameworks/R.framework/Resources/library --no-vignettes --timings AnVILBilling_1.10.0.tar.gz StartedAt: 2023-10-15 22:32:48 -0400 (Sun, 15 Oct 2023) EndedAt: 2023-10-15 22:35:13 -0400 (Sun, 15 Oct 2023) EllapsedTime: 144.9 seconds RetCode: 0 Status: OK CheckDir: AnVILBilling.Rcheck Warnings: 0