Package: AlpsNMR Version: 4.2.0 Command: F:\biocbuild\bbs-3.17-bioc\R\bin\R.exe CMD check --no-multiarch --install=check:AlpsNMR.install-out.txt --library=F:\biocbuild\bbs-3.17-bioc\R\library --no-vignettes --timings AlpsNMR_4.2.0.tar.gz StartedAt: 2023-10-15 23:23:17 -0400 (Sun, 15 Oct 2023) EndedAt: 2023-10-15 23:30:56 -0400 (Sun, 15 Oct 2023) EllapsedTime: 458.4 seconds RetCode: 0 Status: OK CheckDir: AlpsNMR.Rcheck Warnings: 0