Package: AlpsNMR Version: 4.2.0 Command: chmod a+r AlpsNMR -R && F:\biocbuild\bbs-3.17-bioc\R\bin\R.exe CMD build --keep-empty-dirs --no-resave-data AlpsNMR StartedAt: 2023-10-15 17:12:58 -0400 (Sun, 15 Oct 2023) EndedAt: 2023-10-15 17:15:22 -0400 (Sun, 15 Oct 2023) EllapsedTime: 144.3 seconds RetCode: 0 Status: OK PackageFile: AlpsNMR_4.2.0.tar.gz PackageFileSize: 3.699 MiB