Package: AlpsNMR Version: 4.2.0 Command: rm -rf AlpsNMR.buildbin-libdir && mkdir AlpsNMR.buildbin-libdir && F:\biocbuild\bbs-3.17-bioc\R\bin\R.exe CMD INSTALL --build --library=AlpsNMR.buildbin-libdir AlpsNMR_4.2.0.tar.gz StartedAt: 2023-10-16 08:24:16 -0400 (Mon, 16 Oct 2023) EndedAt: 2023-10-16 08:24:41 -0400 (Mon, 16 Oct 2023) EllapsedTime: 25.6 seconds RetCode: 0 Status: OK PackageFile: AlpsNMR_4.2.0.zip PackageFileSize: 4.174 MiB