Package: AlpsNMR Version: 4.2.0 Command: /Library/Frameworks/R.framework/Resources/bin/R CMD build --keep-empty-dirs --no-resave-data AlpsNMR StartedAt: 2023-10-15 16:40:59 -0400 (Sun, 15 Oct 2023) EndedAt: 2023-10-15 16:46:08 -0400 (Sun, 15 Oct 2023) EllapsedTime: 308.7 seconds RetCode: 0 Status: OK PackageFile: AlpsNMR_4.2.0.tar.gz PackageFileSize: 3.696 MiB