Package: AllelicImbalance Version: 1.38.0 Command: F:\biocbuild\bbs-3.17-bioc\R\bin\R.exe CMD INSTALL AllelicImbalance StartedAt: 2023-10-15 16:32:21 -0400 (Sun, 15 Oct 2023) EndedAt: 2023-10-15 16:33:38 -0400 (Sun, 15 Oct 2023) EllapsedTime: 77.1 seconds RetCode: 0 Status: OK