Package: AllelicImbalance Version: 1.38.0 Command: chmod a+r AllelicImbalance -R && F:\biocbuild\bbs-3.17-bioc\R\bin\R.exe CMD build --keep-empty-dirs --no-resave-data AllelicImbalance StartedAt: 2023-10-15 17:12:54 -0400 (Sun, 15 Oct 2023) EndedAt: 2023-10-15 17:27:28 -0400 (Sun, 15 Oct 2023) EllapsedTime: 873.9 seconds RetCode: 0 Status: OK PackageFile: AllelicImbalance_1.38.0.tar.gz PackageFileSize: 765.9 KiB