Package: AllelicImbalance Version: 1.38.0 Command: rm -rf AllelicImbalance.buildbin-libdir && mkdir AllelicImbalance.buildbin-libdir && F:\biocbuild\bbs-3.17-bioc\R\bin\R.exe CMD INSTALL --build --library=AllelicImbalance.buildbin-libdir AllelicImbalance_1.38.0.tar.gz StartedAt: 2023-10-16 08:24:07 -0400 (Mon, 16 Oct 2023) EndedAt: 2023-10-16 08:25:30 -0400 (Mon, 16 Oct 2023) EllapsedTime: 83.7 seconds RetCode: 0 Status: OK PackageFile: AllelicImbalance_1.38.0.zip PackageFileSize: 1.229 MiB