Package: AllelicImbalance Version: 1.38.0 Command: /home/biocbuild/bbs-3.17-bioc/R/bin/R CMD INSTALL AllelicImbalance StartedAt: 2023-10-15 15:31:27 -0400 (Sun, 15 Oct 2023) EndedAt: 2023-10-15 15:32:22 -0400 (Sun, 15 Oct 2023) EllapsedTime: 55.0 seconds RetCode: 0 Status: OK