Package: AllelicImbalance Version: 1.38.0 Command: /Library/Frameworks/R.framework/Resources/bin/R CMD check --install=check:AllelicImbalance.install-out.txt --library=/Library/Frameworks/R.framework/Resources/library --no-vignettes --timings AllelicImbalance_1.38.0.tar.gz StartedAt: 2023-10-15 22:26:16 -0400 (Sun, 15 Oct 2023) EndedAt: 2023-10-15 22:44:53 -0400 (Sun, 15 Oct 2023) EllapsedTime: 1116.6 seconds RetCode: 0 Status: OK CheckDir: AllelicImbalance.Rcheck Warnings: 0