Package: AgiMicroRna Version: 2.50.0 Command: /Library/Frameworks/R.framework/Resources/bin/R CMD check --install=check:AgiMicroRna.install-out.txt --library=/Library/Frameworks/R.framework/Resources/library --no-vignettes --timings AgiMicroRna_2.50.0.tar.gz StartedAt: 2023-10-15 22:22:36 -0400 (Sun, 15 Oct 2023) EndedAt: 2023-10-15 22:37:19 -0400 (Sun, 15 Oct 2023) EllapsedTime: 883.3 seconds RetCode: 0 Status: WARNINGS CheckDir: AgiMicroRna.Rcheck Warnings: 1