Package: AgiMicroRna Version: 2.50.0 Command: /Library/Frameworks/R.framework/Resources/bin/R CMD build --keep-empty-dirs --no-resave-data AgiMicroRna StartedAt: 2023-10-15 16:39:11 -0400 (Sun, 15 Oct 2023) EndedAt: 2023-10-15 16:43:33 -0400 (Sun, 15 Oct 2023) EllapsedTime: 262.0 seconds RetCode: 0 Status: OK PackageFile: AgiMicroRna_2.50.0.tar.gz PackageFileSize: 3.067 MiB