Package: AgiMicroRna Version: 2.50.0 Command: rm -rf AgiMicroRna.buildbin-libdir && mkdir AgiMicroRna.buildbin-libdir && /Users/biocbuild/BBS/utils/build-universal.sh AgiMicroRna_2.50.0.tar.gz /Library/Frameworks/R.framework/Resources/bin/R AgiMicroRna.buildbin-libdir StartedAt: 2023-10-16 08:56:17 -0400 (Mon, 16 Oct 2023) EndedAt: 2023-10-16 08:59:46 -0400 (Mon, 16 Oct 2023) EllapsedTime: 208.2 seconds RetCode: 0 Status: OK PackageFile: AgiMicroRna_2.50.0.tgz PackageFileSize: 3.524 MiB