Package: AffyRNADegradation Version: 1.46.0 Command: rm -rf AffyRNADegradation.buildbin-libdir && mkdir AffyRNADegradation.buildbin-libdir && F:\biocbuild\bbs-3.17-bioc\R\bin\R.exe CMD INSTALL --build --library=AffyRNADegradation.buildbin-libdir AffyRNADegradation_1.46.0.tar.gz StartedAt: 2023-10-16 08:23:31 -0400 (Mon, 16 Oct 2023) EndedAt: 2023-10-16 08:23:46 -0400 (Mon, 16 Oct 2023) EllapsedTime: 15.4 seconds RetCode: 0 Status: OK PackageFile: AffyRNADegradation_1.46.0.zip PackageFileSize: 315 KiB